BEGIN:VCALENDAR
VERSION:2.0
PRODID:-//零距離合作社 - ECPv6.15.4//NONSGML v1.0//EN
CALSCALE:GREGORIAN
METHOD:PUBLISH
X-WR-CALNAME:零距離合作社
X-ORIGINAL-URL:https://zdc.mo
X-WR-CALDESC:Events for 零距離合作社
REFRESH-INTERVAL;VALUE=DURATION:PT1H
X-Robots-Tag:noindex
X-PUBLISHED-TTL:PT1H
BEGIN:VTIMEZONE
TZID:Asia/Shanghai
BEGIN:STANDARD
TZOFFSETFROM:+0800
TZOFFSETTO:+0800
TZNAME:CST
DTSTART:20210101T000000
END:STANDARD
END:VTIMEZONE
BEGIN:VEVENT
DTSTART;VALUE=DATE:20210430
DTEND;VALUE=DATE:20210501
DTSTAMP:20260422T015234
CREATED:20210326T132202Z
LAST-MODIFIED:20220721T071347Z
UID:420-1619740800-1619827199@zdc.mo
SUMMARY:4月30日「好天氣．壞天氣」親子一人一故事劇場——「髱鬢斯磨」社區巡迴演出 截止報名
DESCRIPTION:4月30日「好天氣．壞天氣」親子一人一故事劇場——「髱鬢斯磨」社區巡迴演出 截止報名 \n﹎﹎﹎﹎﹎﹎﹎﹎﹎﹎﹎﹎﹎﹎﹎﹎﹎﹎\n🗣「我要你學咁多嘢都係為你將來好！\n你做乜咁曳唔聽話？」\n➠ 暴雨警告現正生效，一道低壓槽為本屋帶來不穩定天氣。⛈️ \n🗣「考得唔好唔緊要啦，我知你盡咗力喇～」\n➠ 初時部分時間有薄霧。日間大致天晴，相當溫暖。🌞 \n🗣「我打你，都係因為我錫你，我都好心痛㗎！」\n➠ 間中有雨及有幾陣狂風雷暴， 雨勢有時頗大。☔ \n🗣「爸爸返工喇～你返學畀心機呀！」\n「早啲返嚟陪我玩吖～」\n➠ 大致天晴，早上清涼， 晚上部分時間有吹和緩偏東風。🌤 \n🗣「我打一陣機都唔得咩？你好煩啊！」\n➠ 強烈季候風信號現正生效，日間非常乾燥，離岸及高地吹強風。🌀\n﹊﹊﹊﹊﹊﹊﹊﹊﹊﹊﹊﹊﹊﹊﹊﹊﹊﹊\n【「好天氣．壞天氣」親子一人一故事劇場——\n「髱鬢斯磨」社區巡迴演出】\n𝕌𝕡𝕤 𝕒𝕟𝕕 𝔻𝕠𝕨𝕟𝕤 — ℙ𝕒𝕣𝕖𝕟𝕥-𝕔𝕙𝕚𝕝𝕕 ℙ𝕝𝕒𝕪𝕓𝕒𝕔𝕜 𝕋𝕙𝕖𝕒𝕥𝕣𝕖 𝕊𝕖𝕣𝕚𝕖𝕤 \n┎━━━━━━━━━━━━━━━━━━━━┒\n每個「家🏠」都有獨特的形狀與姿態，\n伴隨陰晴不定、變幻莫測的情感天氣；\n美好的關愛與陪伴，醜陋的矛盾與衝突，\n數不清的情緒勒索與世代隔閡；\n透過訴說💬、聆聽👂🏻與藝術轉化，\n彼此觸動，共同取暖，重新找出生命的共鳴。\n┖━━━━━━━━━━━━━━━━━━━━┚\n本年度零距離合作社「好天氣．壞天氣」親子一人一故事劇場將於 2021 年 5 月至 9 月以親子體驗工作坊和社區巡迴演出的方式進行，藉著「天氣」的比喻打開「親子溝通」的議題，探討親子兩代的相處型態與對世代價值觀的差異，運用社區藝術與劇場互動的形式，反思生活裡的親子溝通模式，提出經營兩代情的更多可能性。 \n「髱鬢斯磨」社區巡迴演出針對本澳社福機構及學校，透過「一人一故事劇場」即興互動、著重「分享」、「平等」與「尊重」的表演形式，表演者以自身的個人經歷作為序幕，引領觀眾分享自己的親子故事或個人感受，呈現澳門人生活中的世代溝通狀態、對「家」的想像和渴望，揭示社會上的不同世代溝通現象和矛盾。\n▬▬▬▬▬▬▬▬▬\n⌂ 演出形式｜一人一故事劇場\n⌂ 演出對象｜本澳社福機構服務使用者，以成人、長者為主\n⌂ 參與人數｜由社福機構╱學校自行決定，每場不超過 50 人\n⌂ 演出地點｜澳門各社會服務機構及學校\n⌂ 日　　期｜5 月 – 9 月期間\n⌂ 演出時間｜由社福機構╱學校預約，每場約 1 小時\n⌂ 場　　次｜每間社福機構╱學校最多預約一場，共四場\n⌂ 費　　用｜全免\n▬▬▬▬▬▬▬▬▬\n▌預約須知 ▌ \n⚠️ 活動即日起接受社會服務機構╱學校預約申請 https://reurl.cc/6y9yLO ，並須作為非牟利活動。\n🔥 每間機構╱學校最多可申請一場，名額有限，先到先得。\n📪 機構╱學校填妥申請表格後，主辦單位將以電郵及電話通知聯絡人確認申請是否接納，查詢請電 66660863 戴小姐。\n🎨 零距離合作社將按照接收申請表之先後次序辦理申請手續，且因應實際情況調整預約日期及時間。\n⛈️ 若遇特殊情況，或遇惡劣天氣，零距離合作社保留取消活動或改期的權利，並會盡快通知受影響之機構。\n📸 本社保留使用項目有關之照片、錄像及活動成果作推廣、宣傳及教育用途之權利。\n▬▬▬▬▬▬▬▬▬\n▌報名或演出查詢 ▌ \n電話查詢｜+853 66660863（Whatsapp）戴小姐\n+853 66972121（Whatsapp）梁小姐\n電郵查詢｜zdcmacau@gmail.com\n▬▬▬▬▬▬▬▬▬\n▌創作及製作人員 ▌ \n藝術總監｜戴碧筠\n監　　制｜梁惠美\n項目策劃｜梁式瑜\n領 航 員｜戴碧筠\n演　　員｜陳英傑　陳加裕　葉穗清\n李綺倩　鄭婉欣　廖小麗\n現場音樂｜區鈞程\n節目管理｜米制作\n平面設計｜@sandyleongsinu\n特別鳴謝｜留白空間\n主辦演出｜零距離合作社\n贊　　助｜澳門特區政府文化局\n▬▬▬▬▬▬▬▬▬
URL:https://zdc.mo/event/4%e6%9c%8830%e6%97%a5%e3%80%8c%e5%a5%bd%e5%a4%a9%e6%b0%a3%ef%bc%8e%e5%a3%9e%e5%a4%a9%e6%b0%a3%e3%80%8d%e8%a6%aa%e5%ad%90%e4%b8%80%e4%ba%ba%e4%b8%80%e6%95%85%e4%ba%8b%e5%8a%87%e5%a0%b4/
END:VEVENT
BEGIN:VEVENT
DTSTART;TZID=Asia/Shanghai:20210328T150000
DTEND;TZID=Asia/Shanghai:20210328T173000
DTSTAMP:20260422T015234
CREATED:20210320T111633Z
LAST-MODIFIED:20220721T071347Z
UID:87-1616943600-1616952600@zdc.mo
SUMMARY:3月28日「植言物語 Dialogues in Macau」一人一故事劇場 ╳ 路環自然體驗
DESCRIPTION:▬▬▬▬▬▬▬▬▬▬▬▬▬▬▬▬▬▬▬▬\n後疫情時代，在家辦公、遠距教學、實名進出，通通成為新的日常範式。我們悶在澳門這個小小城市裡，再把自己隱逸在一個個密閉空間中，大口呼吸著社交隔離的孤獨、面對疫症的焦慮與恐懼、經濟衰退的壓力；人與人之間，乃至人與自然之間，我們前所未有地疏離與陌生⋯⋯\n——————————————————————————\n▞ 你有多久沒有豎耳細聽海浪的聲音？▚\n細看一片綠意盎然的山林美景？\n感受清風輕撫肌膚的觸感？\n▙ 聞到樹木與青草獨特的氣息？▜\n——————————————————————————\n「植言物語Dialogues in Macau」一人一故事劇場社區凝聚計劃2021，讓我們重新出發，穿梭山林、走近海洋、親近動物，在擁擠的都市叢林裡暫時抽離，在大自然中沉澱日常思緒，調整生活步伐，以身體的五感去體驗自然戶外，重新找回人與土地的親密連結；並透過戲劇藝術的轉化與呈現，訴說與傾吐你我獨有的生命故事。\n——————————————————————————\n╭╯來一場戶外體驗與故事創造的五感饗宴╰╮\n享受 ꧁ 自然探索 ╳ 戲劇藝術 ꧂\n╰╮　　　　療癒身心的特殊魔力！　　　╭╯\n——————————————————————————\n活動將於3月至11月期間舉行，內容包含自然環境體驗的「一人一故事劇場」，邀請居民來到與四個子題「林、山、動物、海」有關聯的地點，一方面在自然導師的帶領下，身體力行觀察環境中的動植物及海洋，體驗人與自然、人與動物的關係；另一方面，透過邀請觀眾進行即時的攝影及文字記錄，訴說與分享當下內心沈澱的故事，走進「一人一故事劇場」所獨有的同理與藝術表達，感受和發現故事當中蘊藏的力量。\n▬▬▬▬▬▬▬▬▬▬▬▬▬▬▬▬▬▬▬▬\n▌演出資訊 ▌ \n演出形式｜戶外體驗及一人一故事劇場\n演出對象｜澳門居民及藝術愛好者\n演出日期｜2021年3月28日（日），6月27日（日），9月26日（日），11月7日（日）\n活動時間｜15:00 – 17:30\n集合時間｜14:45\n活動地點｜路環自然空間（集合地點、解散地點及活動進行路線將在購票後公佈） \n場次主題｜\n🌲 【春林旅】「林」間漫遊—— 3月28日\n⛰️ 【夏山行】「山」嵐探索——6月27日\n🍂 【秋生趣】農情「物」語——9月26日\n🌊 【冬海遊】聽「海」之心——11月7日 \n票　　價｜一般票——MOP 120\n優待票——MOP 100**\n四季套票——MOP 360 / 300**\n（** 全日制學生或60歲以上長者優惠） \n🔥 名額有限，先到先得，欲購從速。\n👒 憑【四季套票】可一次參與四場活動。\n💬 本活動全程以粵語進行。\n👶🏻 本活動適合 4 歲或以上人士入場，12 歲以下兒童請由家長陪同。\n🏃🏻 活動全程需步行，行動不便者、心血管疾病患者及孕婦不建議參加。\n🐌 活動全程於戶外進行，請穿著輕便淺色系的衣物及合適之運動鞋，自備對環境友善的防曬、防蚊用品及足夠飲用水。\n▬▬▬▬▬▬▬▬▬▬▬▬▬▬▬▬▬▬▬▬\n▌報名方式 ▌ \n❶ 填妥門票訂購表格 https://reurl.cc/a5qgO3 後，將會收到專人透過電郵回覆確認購票資料。\n❷ 收到確認電郵後，請於【三天內】把票款存入以下「中國銀行」帳號：\n帳號 07-01-10-209960（中國銀行）\n戶名 FONTE DE PIERIA PRODUCAO ARTISTICA LIMITADA\n❸ 將入數收據或截圖，電郵至 zdcmacau@gmail.com 或Whatsapp 至 +853 66660863，完成報名手續。完成報名手續後，將會收到購票成功之確認電郵，主辦單位會為每一位參加者購買活動保險，請回覆確認電郵中提及的所需資料。 \n⚠️ 報名成功後，若三天內未付款則視同放棄購票。\n🎨 本社保留修改及變更演出活動辦法之權利，若有更動，將以「零距離合作社」Facebook專頁公告為主。\n📸 本社保留使用項目有關之照片、錄像及活動成果作推廣、宣傳及教育用途之權利。\n▬▬▬▬▬▬▬▬▬▬▬▬▬▬▬▬▬▬▬▬\n▌報名或演出查詢 ▌ \n☎️ 電　話｜+853 66660863（Whatsapp）戴小姐\n+853 66972121（Whatsapp）梁小姐\n📧 電　郵｜zdcmacau@gmail.com\n▬▬▬▬▬▬▬▬▬▬▬▬▬▬▬▬▬▬▬▬\n▌創作及製作人員 ▌ \n藝術總監｜戴碧筠\n監　　制｜梁惠美\n項目策劃｜許麗琪\n自然導師｜袁嘉浩　陳俊明博士　細業\n領 航 員｜戴碧筠\n演　　員｜陳英傑　廖小麗　古嘉瑩　吳宇瑱\n陳加裕　廖紫欣　李綺倩\n陳華康　劉雅雯　葉穗清\n現場音樂｜區鈞程\n節目管理｜米制作\n平面設計｜Cakecake illustration \n主辦演出｜零距離合作社\n贊　　助｜澳門特區政府文化局\n▬▬▬▬▬▬▬▬▬▬▬▬▬▬▬▬▬▬▬▬
URL:https://zdc.mo/event/%e3%80%8c%e6%a4%8d%e8%a8%80%e7%89%a9%e8%aa%9e-dialogues-in-macau%e3%80%8d%e4%b8%80%e4%ba%ba%e4%b8%80%e6%95%85%e4%ba%8b%e5%8a%87%e5%a0%b4-%e2%95%b3-%e8%b7%af%e7%92%b0%e8%87%aa%e7%84%b6%e9%ab%94/
LOCATION:路環自然空間\, 路環\, 999078
ORGANIZER;CN="%E9%9B%B6%E8%B7%9D%E9%9B%A2%E5%90%88%E4%BD%9C%E7%A4%BE":MAILTO:zdcmacau@gmail.com
END:VEVENT
BEGIN:VEVENT
DTSTART;VALUE=DATE:20210327
DTEND;VALUE=DATE:20210328
DTSTAMP:20260422T015234
CREATED:20210320T142112Z
LAST-MODIFIED:20220721T071358Z
UID:117-1616803200-1616889599@zdc.mo
SUMMARY:3月27日「好天氣．壞天氣」親子一人一故事劇場——「髱鬢斯磨」社區巡迴演出 開始報名
DESCRIPTION:3月27日「好天氣．壞天氣」親子一人一故事劇場——「髱鬢斯磨」社區巡迴演出 開始報名 \n﹎﹎﹎﹎﹎﹎﹎﹎﹎﹎﹎﹎﹎﹎﹎﹎﹎﹎\n🗣「我要你學咁多嘢都係為你將來好！\n你做乜咁曳唔聽話？」\n➠ 暴雨警告現正生效，一道低壓槽為本屋帶來不穩定天氣。⛈️ \n🗣「考得唔好唔緊要啦，我知你盡咗力喇～」\n➠ 初時部分時間有薄霧。日間大致天晴，相當溫暖。🌞 \n🗣「我打你，都係因為我錫你，我都好心痛㗎！」\n➠ 間中有雨及有幾陣狂風雷暴， 雨勢有時頗大。☔ \n🗣「爸爸返工喇～你返學畀心機呀！」\n「早啲返嚟陪我玩吖～」\n➠ 大致天晴，早上清涼， 晚上部分時間有吹和緩偏東風。🌤 \n🗣「我打一陣機都唔得咩？你好煩啊！」\n➠ 強烈季候風信號現正生效，日間非常乾燥，離岸及高地吹強風。🌀\n﹊﹊﹊﹊﹊﹊﹊﹊﹊﹊﹊﹊﹊﹊﹊﹊﹊﹊\n【「好天氣．壞天氣」親子一人一故事劇場——\n「髱鬢斯磨」社區巡迴演出】\n𝕌𝕡𝕤 𝕒𝕟𝕕 𝔻𝕠𝕨𝕟𝕤 — ℙ𝕒𝕣𝕖𝕟𝕥-𝕔𝕙𝕚𝕝𝕕 ℙ𝕝𝕒𝕪𝕓𝕒𝕔𝕜 𝕋𝕙𝕖𝕒𝕥𝕣𝕖 𝕊𝕖𝕣𝕚𝕖𝕤 \n┎━━━━━━━━━━━━━━━━━━━━┒\n每個「家🏠」都有獨特的形狀與姿態，\n伴隨陰晴不定、變幻莫測的情感天氣；\n美好的關愛與陪伴，醜陋的矛盾與衝突，\n數不清的情緒勒索與世代隔閡；\n透過訴說💬、聆聽👂🏻與藝術轉化，\n彼此觸動，共同取暖，重新找出生命的共鳴。\n┖━━━━━━━━━━━━━━━━━━━━┚\n本年度零距離合作社「好天氣．壞天氣」親子一人一故事劇場將於 2021 年 5 月至 9 月以親子體驗工作坊和社區巡迴演出的方式進行，藉著「天氣」的比喻打開「親子溝通」的議題，探討親子兩代的相處型態與對世代價值觀的差異，運用社區藝術與劇場互動的形式，反思生活裡的親子溝通模式，提出經營兩代情的更多可能性。 \n「髱鬢斯磨」社區巡迴演出針對本澳社福機構及學校，透過「一人一故事劇場」即興互動、著重「分享」、「平等」與「尊重」的表演形式，表演者以自身的個人經歷作為序幕，引領觀眾分享自己的親子故事或個人感受，呈現澳門人生活中的世代溝通狀態、對「家」的想像和渴望，揭示社會上的不同世代溝通現象和矛盾。\n▬▬▬▬▬▬▬▬▬\n⌂ 演出形式｜一人一故事劇場\n⌂ 演出對象｜本澳社福機構服務使用者，以成人、長者為主\n⌂ 參與人數｜由社福機構╱學校自行決定，每場不超過 50 人\n⌂ 演出地點｜澳門各社會服務機構及學校\n⌂ 日　　期｜5 月 – 9 月期間\n⌂ 演出時間｜由社福機構╱學校預約，每場約 1 小時\n⌂ 場　　次｜每間社福機構╱學校最多預約一場，共四場\n⌂ 費　　用｜全免\n▬▬▬▬▬▬▬▬▬\n▌預約須知 ▌ \n⚠️ 活動即日起接受社會服務機構╱學校預約申請 https://reurl.cc/6y9yLO ，並須作為非牟利活動。\n🔥 每間機構╱學校最多可申請一場，名額有限，先到先得。\n📪 機構╱學校填妥申請表格後，主辦單位將以電郵及電話通知聯絡人確認申請是否接納，查詢請電 66660863 戴小姐。\n🎨 零距離合作社將按照接收申請表之先後次序辦理申請手續，且因應實際情況調整預約日期及時間。\n⛈️ 若遇特殊情況，或遇惡劣天氣，零距離合作社保留取消活動或改期的權利，並會盡快通知受影響之機構。\n📸 本社保留使用項目有關之照片、錄像及活動成果作推廣、宣傳及教育用途之權利。\n▬▬▬▬▬▬▬▬▬\n▌報名或演出查詢 ▌ \n電話查詢｜+853 66660863（Whatsapp）戴小姐\n+853 66972121（Whatsapp）梁小姐\n電郵查詢｜zdcmacau@gmail.com\n▬▬▬▬▬▬▬▬▬\n▌創作及製作人員 ▌ \n藝術總監｜戴碧筠\n監　　制｜梁惠美\n項目策劃｜梁式瑜\n領 航 員｜戴碧筠\n演　　員｜陳英傑　陳加裕　葉穗清\n李綺倩　鄭婉欣　廖小麗\n現場音樂｜區鈞程\n節目管理｜米制作\n平面設計｜@sandyleongsinu\n特別鳴謝｜留白空間\n主辦演出｜零距離合作社\n贊　　助｜澳門特區政府文化局\n▬▬▬▬▬▬▬▬▬
URL:https://zdc.mo/event/%e3%80%8c%e5%a5%bd%e5%a4%a9%e6%b0%a3%ef%bc%8e%e5%a3%9e%e5%a4%a9%e6%b0%a3%e3%80%8d%e8%a6%aa%e5%ad%90%e4%b8%80%e4%ba%ba%e4%b8%80%e6%95%85%e4%ba%8b%e5%8a%87%e5%a0%b4-%e3%80%8c%e9%ab%b1/
ORGANIZER;CN="%E9%9B%B6%E8%B7%9D%E9%9B%A2%E5%90%88%E4%BD%9C%E7%A4%BE":MAILTO:zdcmacau@gmail.com
END:VEVENT
BEGIN:VEVENT
DTSTART;TZID=Asia/Shanghai:20210326T093000
DTEND;TZID=Asia/Shanghai:20210326T123000
DTSTAMP:20260422T015234
CREATED:20210325T121142Z
LAST-MODIFIED:20220721T071358Z
UID:349-1616751000-1616761800@zdc.mo
SUMMARY:6月26日「彩蝶展翅」一人一故事劇場表演者培訓計劃
DESCRIPTION:﹎﹎﹎﹎﹎﹎﹎﹎﹎﹎﹎﹎﹎﹎﹎\n﹊﹊﹊﹊﹊﹊﹊﹊﹊﹊﹊﹊﹊﹊﹊\n❝　　　 一人一故事劇場，\n一個讓生命故事被訴說 💬 與聆聽👂🏼 的劇場。\n在這裡，我們分享、傾聽，真情流露；\n在這裡，生活點滴片段被即興演出，\n打破觀演員傳統的界限。　　　❞\n﹎﹎﹎﹎﹎﹎﹎﹎﹎﹎﹎﹎﹎﹎﹎\n﹊﹊﹊﹊﹊﹊﹊﹊﹊﹊﹊﹊﹊﹊﹊\n꧁「彩蝶展翅」꧂\n一人一故事劇場表演者基礎訓練課程\n▬▬▬▬▬▬▬▬▬▬▬▬▬▬▬▬▬▬▬▬▬▬▬▬▬\n「彩蝶展翅」一人一故事劇場表演者基礎訓練課程，將透過30小時的課堂＋2小時社區走訪＋3小時的實習演出，讓參加者認識「一人一故事劇場 Playback Theatre」，學習其核心精神與表演方式，以及作為 #社區劇場 的應用實踐可能，並且從中：\n📣　提升個人覺察能力和傾聽能力\n🧠　發展創造力和表現力\n🪑　體察和探索劇場的力量\n🗣　學習團體帶領\n👐🏼　建立人與人之間的聯繫\n🎈　支持社區發展\n▬▬▬▬▬▬▬▬▬▬▬▬▬▬▬▬▬▬▬▬▬▬▬▬▬\n本課程由 #美國一人一故事劇場中心 畢業生帶領，結合理論、技巧與實踐，以幫助學員體驗個人成長，並通過實習演出，領略一人一故事劇場的價值。出席率達 80% 並完成實習演出的學員，經導師同意可獲 #頒發證書 💮。\n▾ ▾ ▾\n◉ 美國一人一故事劇場中心「一人一故事劇場」訓練階段 ◉\n第一階段 ➠ 基礎訓練 Core Training\n（本課程對應程度）\n第二階段 ➠ 進階課程 Advanced Training\n第三階段 ➠ 實踐課程 Practice\n第四階段 ➠ 領袖課程 Leadership\n▴ ▴ ▴\n———————————\n🔹🔸訓練課程詳細資訊🔸🔹\n———————————\n🎭 招募名額｜20人\n🔍 招募對象｜18歲或以上，對表演、社區發展或社區藝術感興趣的人士。特別適合 #應用戲劇愛好者、 #心理工作者、 #社工、 #教育工作者，以及有個人成長需求、想體驗 #創新藝術、教育形式的個人，且 #毋需戲劇背景 。\n𓇬\n👩🏻‍🏫 導師介紹｜#戴碧筠（澳門首位美國一人一故事劇場中心畢業生、「 #零距離合作社 」創辦人、美術碩士及視覺藝術教育學士。）2003年起現從事藝術行政及項目策劃，具有豐富的劇場編、導、演及教學經驗，與零距離合作社團隊一同開展多個一人一故事劇場社區演出項目及 #社區藝術計劃 ，包括：《時光定格》、《夕陽行業》、《蝶谷新語》、《蝶谷日出》、《彩蝶展翅》、《植言物語》、《好天氣、壞天氣》等社區專題項目。疫情下，與同屆美國一人一故事劇場中心畢業生組成 #WorldPlaybackTheatre，及參與「聽。見｜計劃」，透過互聯網平台進行 #線上一人一故事劇場演出，服務全球各地不同社群。\n𓇬\n📆 授課日期及時間｜\n6月11日（五）19:00-22:00（3小時）\n6月12日（六）10:00-13:00、14:30-17:30、18:30-21:30\n6月13日（日）10:00-13:00、14:30-17:30、18:30-21:30（9小時）\n6月19日（六）10:30-12:30（2小時）\n6月20日（日）10:00-13:00、14:30-17:30、18:30-21:30（9小時）\n6月26日（六）實習演出*、9:30-12:30（3小時）\n☞ *實習演出：完成80％以上課時的學員，可參加 #課程畢業實習演出；完成實習演出並經導師同意可獲頒發 #課程畢業證書。\n𓇬\n📘 授課語言｜廣東話\n📍 授課地點｜澳門區（具體另行通知）\n🎏 實習地點｜路環石排灣社區\n𓇬\n💰 課程費用｜\n【正　　價】➤ MOP 4000／位\n即日至3月28日【#早鳥優惠】➤ MOP 2200／位\n七折優惠【#3人手牽手】➤ MOP 2800／位\n八五折優惠【#2人同行】➤ MOP 3400／位\n半價優惠【複讀生**及大專生】➤ MOP 2000／位\n☞ **指已修畢「一人一故事劇場第一階段：基礎訓練 Core Training」而再次報讀的人士\n𓇬\n📅 報名日期｜即日起至2021年5月16日（日）\n🗳 報名方式｜\n❶ 填妥報名表格 ▻▻ https://forms.gle/JThmEzSzYTn9nHsq8，收到專人透過電郵回覆確認資料。\n❷ 收到確認電郵後，請於【一週內】把課程費用存入以下銀行帳戶：\n帳號 07-01-10-209960（中國銀行）\n戶名 FONTE DE PIERIA PRODUCAO ARTISTICA LIMITADA\n❸ 將入數收據或截圖，電郵至 zdcmacau@gmail.com 或WhatsApp 至 + 853 66660863，完成報名手續。\n報名查詢｜+853 6666 0863 戴小姐（致電或 WhatsApp）\n𓇬\n☞ 如欲瞭解更多過往活動情況，歡迎瀏覽「彩蝶展翅」Facebook專頁。\n▬▬▬▬▬▬▬▬▬▬▬▬▬▬▬▬▬▬▬▬▬▬\n「彩蝶展翅」一人一故事劇場社區凝聚計劃，是零距離合作社在 #石排灣 開展的 #社區藝術服務。自 2016 年起，零距離合作社在石排灣公屋群開展了一系列的 #一人一故事劇場演出、#社區走訪考察 及 #一人一故事劇場工作坊，協助在地社會服務機構與居民透過故事及藝術作為橋樑，建立更緊密的連結，互相聆聽及彼此建設。\n𓇬\n延續過往的成長經驗，本年度零距離合作社將進行「彩蝶展翅」一人一故事劇場 #表演者培訓計劃。在 2021 年 3 月至 6 月將透過 4 次的 #線上社區藝術專題工作坊、35 小時的一人一故事劇場第一階課程 #基礎培訓 及 #社區實習演出，培訓更多新的社區藝術工作者，並為現在的社區藝術工作者提供交流和提昇的機會，願能作一縷微風，讓展翅拍翼的彩蝶能在社區中隨風起舞 🦋。\n▬▬▬▬▬▬▬▬▬▬▬▬▬▬▬▬▬▬▬▬▬▬\n主　　辦｜零距離合作社\n贊　　助｜澳門特區政府文化局\n▬▬▬▬▬▬▬▬▬▬▬▬▬▬▬▬▬▬▬▬▬▬
URL:https://zdc.mo/event/6%e6%9c%8826%e6%97%a5%e3%80%8c%e5%bd%a9%e8%9d%b6%e5%b1%95%e7%bf%85%e3%80%8d%e4%b8%80%e4%ba%ba%e4%b8%80%e6%95%85%e4%ba%8b%e5%8a%87%e5%a0%b4%e8%a1%a8%e6%bc%94%e8%80%85%e5%9f%b9%e8%a8%93%e8%a8%88/
END:VEVENT
BEGIN:VEVENT
DTSTART;TZID=Asia/Shanghai:20210324T200000
DTEND;TZID=Asia/Shanghai:20210324T220000
DTSTAMP:20260422T015234
CREATED:20210325T091811Z
LAST-MODIFIED:20220721T071358Z
UID:265-1616616000-1616623200@zdc.mo
SUMMARY:3月24日「彩蝶展翅」Zoom線上社區藝術研習坊
DESCRIPTION:▬▬▬▬▬▬▬▬▬▬▬▬▬▬▬▬▬▬▬\n一人一故事劇場（Playback Theatre）不僅是一種即興劇場，也是一種社區劇場。 澳門及鄰近地區也有不少以一人一故事劇場與社區同行的案例。\n𓇬\n零距離合作社於「彩蝶展翅」ZOOM 線上研習坊，邀請到五位本地及四位鄰近地區的嘉賓進行對談。四場線上分享會的嘉賓分別是李志強（台灣）、伍綺琪（香港）、陳麗華（香港）、張琳敏（深圳）、林詠欣（澳門），以及零距離合作社社員梁式瑜、廖小麗、許麗琪、陳加裕，一同分享一人一故事劇場參與社區發展項目的經驗，介紹這些社區項目背後的理念，發掘當中值得參考彼此學習的地方，討論一人一故事劇場應用在不同社區議題與領域範疇的可行性。\n▬▬▬▬▬▬▬▬▬▬▬▬▬▬▬▬▬▬▬\n「彩蝶展翅」ZOOM 線上研習坊——一人一故事劇場應用實踐經驗分享\n▬▬▬▬▬▬▬▬▬▬▬▬▬▬▬▬▬▬▬\n對　　象｜對一人一故事劇場、應用劇場、社區劇場有興趣的人士\n參與方式｜透過線上平台 Zoom 進行交流互動\n授課語言｜廣東話為主，部份主講者會以普通話分享\n費　　用｜費用全免\n▬▬▬▬▬▬▬▬▬▬▬▬▬▬▬▬▬▬▬\n日期及時間｜ \n📕【第一場】3月15日（一）20:00 – 22:00 \n「石頭公社《照顧者》系列」\n📣 分享嘉賓 ▻▻ 林詠欣（澳門註冊治療師—心理治療；美國及加拿大註冊戲劇治療師） \n「以天氣為喻——打開親子話題匣」\n💬 分享社員 ▻▻ 梁式瑜（職業治療師；應用心理學碩士；媽媽）\n————————————————\n📗【第二場】3月24日（三）20:00 – 22:00 \n「淺談一人一故事劇場運用在災後服務的能與不能——從八八水災後的社區服務談起」\n📣 分享嘉賓 ▻▻ 李志強* （紐約一人一故事劇場學校畢業生；社會企業創業家） \n「走出天鴿回饋自然——《植言物語》系列」\n💬 分享社員 ▻▻ 廖小麗（臨床心理學碩士—心理專業；一人一故事劇場演員）\n————————————————\n📘【第三場】5月12日（三）20:00 – 22:00 \n「聽。見——疫情下的在線一劇場經驗」\n📣 分享嘉賓 ▻▻ 陳麗華（戲劇藝術碩士—戲劇教育專業）＆張琳敏* （公民演員；一人一故事劇場實踐者；引導師） \n「《我們與海的距離》從海廢到偶物到一人一故事劇場」\n💬 分享社員 ▻▻ 許麗琪（藝術行政人員；藝術工作者）\n————————————————\n📙【第四場】6月21日（一）20:00 – 22:00 \n「從社群實踐中學習：共融Playback的試驗分享」\n📣 分享嘉賓 ▻▻ 伍綺琪（⾔遇劇團聯合藝術總監；美國一人一故事劇場中心認證導師） \n「一人一故事劇場與社區凝聚——石排灣公屋群工作經驗分享」\n💬 分享社員 ▻▻ 陳加裕（語言治療師；口述影像員；一人一故事劇場演員）\n—————————————————\n（*該嘉賓以普通話進行分享）\n▬▬▬▬▬▬▬▬▬▬▬▬▬▬▬▬▬▬▬\n報名方式｜填妥報名表格 https://forms.gle/ypvrBh97riKgThNw8 後，活動前將會收到電郵確認，並獲得ZOOM會議鏈結及密碼\n截止報名日期｜ZOOM 線上研習坊每場活動前 24 小時\n報名查詢｜+853 6666 0863（WhatsApp）戴小姐\n▬▬▬▬▬▬▬▬▬▬▬▬▬▬▬▬▬▬▬\n主　　辦｜零距離合作社\n贊　　助｜澳門特區政府文化局\n▬▬▬▬▬▬▬▬▬▬▬▬▬▬▬▬▬▬▬\n「彩蝶展翅」一人一故事劇場社區凝聚計劃，是零距離合作社在石排灣開展的社區藝術服務。自 2016 年起，零距離合作社在石排灣公屋群開展了一系列的一人一故事劇場演出、社區走訪考察及一人一故事劇場工作坊，協助在地社會服務機構與居民透過故事及藝術作為橋樑，建立更緊密的連結，互相聆聽及彼此建設。\n𓇬\n延續過往的成長經驗，本年度零距離合作社將進行「彩蝶展翅」一人一故事劇場表演者培訓計劃。在 2021 年 3 月至 6 月將透過 4 次的線上社區藝術專題工作坊、35 小時的一人一故事劇場第一階課程基礎培訓及社區實習演出，培訓更多新的社區藝術工作者，並為現在的社區藝術工作者提供交流和提昇的機會，願能作一縷微風，讓展翅拍翼的彩蝶能在社區中隨風起舞。\n▬▬▬▬▬▬▬▬▬▬▬▬▬▬▬▬▬▬▬\n🔍 如欲瞭解更多過往活動情況，可瀏覽「彩蝶展翅」Facebook專頁。\n💾 所有收集資料僅用作本活動之記錄及聯絡之用。\n▬▬▬▬▬▬▬▬▬▬▬▬▬▬▬▬▬▬▬
URL:https://zdc.mo/event/3%e6%9c%8824%e6%97%a5%e3%80%8c%e5%bd%a9%e8%9d%b6%e5%b1%95%e7%bf%85%e3%80%8dzoom%e7%b7%9a%e4%b8%8a%e7%a4%be%e5%8d%80%e8%97%9d%e8%a1%93%e7%a0%94%e7%bf%92%e5%9d%8a/
END:VEVENT
BEGIN:VEVENT
DTSTART;TZID=Asia/Shanghai:20210315T200000
DTEND;TZID=Asia/Shanghai:20210315T220000
DTSTAMP:20260422T015234
CREATED:20210320T112729Z
LAST-MODIFIED:20220721T071358Z
UID:97-1615838400-1615845600@zdc.mo
SUMMARY:3月15日「彩蝶展翅」Zoom線上社區藝術研習坊
DESCRIPTION:▬▬▬▬▬▬▬▬▬▬▬▬▬▬▬▬▬▬▬\n一人一故事劇場（Playback Theatre）不僅是一種即興劇場，也是一種社區劇場。 澳門及鄰近地區也有不少以一人一故事劇場與社區同行的案例。\n𓇬\n零距離合作社於「彩蝶展翅」ZOOM 線上研習坊，邀請到五位本地及四位鄰近地區的嘉賓進行對談。四場線上分享會的嘉賓分別是李志強（台灣）、伍綺琪（香港）、陳麗華（香港）、張琳敏（深圳）、林詠欣（澳門），以及零距離合作社社員梁式瑜、廖小麗、許麗琪、陳加裕，一同分享一人一故事劇場參與社區發展項目的經驗，介紹這些社區項目背後的理念，發掘當中值得參考彼此學習的地方，討論一人一故事劇場應用在不同社區議題與領域範疇的可行性。\n▬▬▬▬▬▬▬▬▬▬▬▬▬▬▬▬▬▬▬\n「彩蝶展翅」ZOOM 線上研習坊——一人一故事劇場應用實踐經驗分享\n▬▬▬▬▬▬▬▬▬▬▬▬▬▬▬▬▬▬▬\n對　　象｜對一人一故事劇場、應用劇場、社區劇場有興趣的人士\n參與方式｜透過線上平台 Zoom 進行交流互動\n授課語言｜廣東話為主，部份主講者會以普通話分享\n費　　用｜費用全免\n▬▬▬▬▬▬▬▬▬▬▬▬▬▬▬▬▬▬▬\n日期及時間｜ \n📕【第一場】3月15日（一）20:00 – 22:00 \n「石頭公社《照顧者》系列」\n📣 分享嘉賓 ▻▻ 林詠欣（澳門註冊治療師—心理治療；美國及加拿大註冊戲劇治療師） \n「以天氣為喻——打開親子話題匣」\n💬 分享社員 ▻▻ 梁式瑜（職業治療師；應用心理學碩士；媽媽）\n————————————————\n📗【第二場】3月24日（三）20:00 – 22:00 \n「淺談一人一故事劇場運用在災後服務的能與不能——從八八水災後的社區服務談起」\n📣 分享嘉賓 ▻▻ 李志強* （紐約一人一故事劇場學校畢業生；社會企業創業家） \n「走出天鴿回饋自然——《植言物語》系列」\n💬 分享社員 ▻▻ 廖小麗（臨床心理學碩士—心理專業；一人一故事劇場演員）\n————————————————\n📘【第三場】5月12日（三）20:00 – 22:00 \n「聽。見——疫情下的在線一劇場經驗」\n📣 分享嘉賓 ▻▻ 陳麗華（戲劇藝術碩士—戲劇教育專業）＆張琳敏* （公民演員；一人一故事劇場實踐者；引導師） \n「《我們與海的距離》從海廢到偶物到一人一故事劇場」\n💬 分享社員 ▻▻ 許麗琪（藝術行政人員；藝術工作者）\n————————————————\n📙【第四場】6月21日（一）20:00 – 22:00 \n「從社群實踐中學習：共融Playback的試驗分享」\n📣 分享嘉賓 ▻▻ 伍綺琪（⾔遇劇團聯合藝術總監；美國一人一故事劇場中心認證導師） \n「一人一故事劇場與社區凝聚——石排灣公屋群工作經驗分享」\n💬 分享社員 ▻▻ 陳加裕（語言治療師；口述影像員；一人一故事劇場演員）\n—————————————————\n（*該嘉賓以普通話進行分享）\n▬▬▬▬▬▬▬▬▬▬▬▬▬▬▬▬▬▬▬\n報名方式｜填妥報名表格 https://forms.gle/ypvrBh97riKgThNw8 後，活動前將會收到電郵確認，並獲得ZOOM會議鏈結及密碼\n截止報名日期｜ZOOM 線上研習坊每場活動前 24 小時\n報名查詢｜+853 6666 0863（WhatsApp）戴小姐\n▬▬▬▬▬▬▬▬▬▬▬▬▬▬▬▬▬▬▬\n主　　辦｜零距離合作社\n贊　　助｜澳門特區政府文化局\n▬▬▬▬▬▬▬▬▬▬▬▬▬▬▬▬▬▬▬\n「彩蝶展翅」一人一故事劇場社區凝聚計劃，是零距離合作社在石排灣開展的社區藝術服務。自 2016 年起，零距離合作社在石排灣公屋群開展了一系列的一人一故事劇場演出、社區走訪考察及一人一故事劇場工作坊，協助在地社會服務機構與居民透過故事及藝術作為橋樑，建立更緊密的連結，互相聆聽及彼此建設。\n𓇬\n延續過往的成長經驗，本年度零距離合作社將進行「彩蝶展翅」一人一故事劇場表演者培訓計劃。在 2021 年 3 月至 6 月將透過 4 次的線上社區藝術專題工作坊、35 小時的一人一故事劇場第一階課程基礎培訓及社區實習演出，培訓更多新的社區藝術工作者，並為現在的社區藝術工作者提供交流和提昇的機會，願能作一縷微風，讓展翅拍翼的彩蝶能在社區中隨風起舞。\n▬▬▬▬▬▬▬▬▬▬▬▬▬▬▬▬▬▬▬\n🔍 如欲瞭解更多過往活動情況，可瀏覽「彩蝶展翅」Facebook專頁。\n💾 所有收集資料僅用作本活動之記錄及聯絡之用。\n▬▬▬▬▬▬▬▬▬▬▬▬▬▬▬▬▬▬▬
URL:https://zdc.mo/event/%e3%80%8c%e5%bd%a9%e8%9d%b6%e5%b1%95%e7%bf%85%e3%80%8dzoom%e7%b7%9a%e4%b8%8a%e7%a4%be%e5%8d%80%e8%97%9d%e8%a1%93%e7%a0%94%e7%bf%92/
ORGANIZER;CN="%E9%9B%B6%E8%B7%9D%E9%9B%A2%E5%90%88%E4%BD%9C%E7%A4%BE":MAILTO:zdcmacau@gmail.com
END:VEVENT
END:VCALENDAR